Workbook

Sheet Short Tree
B2: ID | C2: Name | D2: type | E2: Children | F2: nee | G2: Born | H2: Where Born | I2: Married | J2: Where Married | K2: Status | L2: Died | M2: Where died
B3: P5.2 | C3: John RYAN | D3: male | O3: Source | P3: Target
B4: 5.2 | D4: family | O4: =B3 -> P5.2 | P4: =B4 -> 5.2
B5: M5.2 | C5: Anne RYAN | D5: female | O5: =B4 -> 5.2 | P5: =B11 -> C5.31
B6: P4.2 | C6: Charles CRIDLAND | D6: male | E6: 12 | G6: 'b 1803 | L6: 'd 27/09/1879 | O6: =B5 -> M5.2 | P6: =B4 -> 5.2
B7: 4.2 | D7: family | O7: =B6 -> P4.2 | P7: =B7 -> 4.2
B8: M4.2 | C8: Elizabeth CRIDLAND | D8: female | F8: Whelon | G8: 'b 1805 | L8: 'd 15 Feb 1878 | O8: =B7 -> 4.2 | P8: =B9 -> C4.31
B9: C4.31 | C9: Charles John Snr CRIDLAND | D9: male | G9: 'b 30 Jan 1826 | L9: 'd 23 Dec 1910 | O9: =B8 -> M4.2 | P9: =B7 -> 4.2
B10: 4.31 | D10: family | O10: =B9 -> C4.31 | P10: =B10 -> 4.31
B11: C5.31 | C11: Maryanne CRIDLAND | D11: female | F11: Ryan | G11: 'b 15 May 1832 | L11: 'd 17 Oct 1906 | O11: =B10 -> 4.31 | P11: =B12 -> C4.411
B12: C4.411 | C12: Marianne BELL(Mary Anne) | D12: female | E12: 4 | F12: Cridland | G12: 'b 27 Jan 1853 | L12: d’ Jul 1915 | O12: =B11 -> C5.31 | P12: =B10 -> 4.31

Sheet Full Tree
B1: Members | O1: Relationship
B3: ID | C3: Name | D3: type | E3: Children | F3: nee | G3: Born | H3: Where Born | I3: Married | J3: Where Married | K3: Status | L3: Died | M3: Where died
B4: P1.2 | C4: William Augustus CUPITT | D4: male | E4: 10 | G4: b 3 Oct 1797 | H4: Sydney Cove | I4: m 8 Mar 1853 | J4: Windsor | K4: Deceased | L4: -4 Oct 1869 | M4: Kangaloon | O4: Source | P4: Target
A5: William | B5: 1.2 | D5: family | J5: Bell | O5: =B188 -> C7.61136 | P5: =B193 -> 12.61142
B6: M1.2 | C6: Rebecca Gettis CUPITT | D6: female | E6: 10 | F6: Charlton | G6: ‘b 25 Dec1804 | H6: Norfolk Island | I6: m 17 Dec 1833 | J6: Windsor | K6: Deceased | L6: -15 May 1886 | M6: Mittagong | O6: =B138 -> C2.5151 | P6: =B174 -> 12.5114
B7: P2.2 | C7: William Edward SAVELL | D7: male | L7: 'd~1909 | O7: =B161 -> C3.5111 | P7: =B165 -> 7.5113
B8: 2.2 | D8: family | O8: =B111 -> C4.411 | P8: =B110 -> 3.411
B9: M2.2 | O9: =B9 -> M2.2 | P9: =B8 -> 2.2
B10: P3.2 | C10: Robin BELL | D10: male | E10: 9 | F10: 3 | G10: 'b 15 Mar 1785 | K10: Deceased | L10: ‘d 28 Oct 1861 | O10: =B55 -> C8.31 | P10: =B54 -> 7.31
B11: 3.2 | D11: family | E11: 10 | O11: =B115 -> C11.411 | P11: =B99 -> 2.415
B12: M3.2 | C12: Mercy BELL | D12: female | E12: 11 | G12: 'b 1784 | K12: Deceased | L12: 'd 20 Apr 1850 | O12: =B114 -> S3.411 | P12: =B113 -> 7.411
B13: P4.2 | C13: Charles CRIDLAND | D13: male | E13: 12 | G13: 'b 1803 | L13: 'd 27/09/1879 | O13: =B44 -> C2.31 | P13: =B45 -> 2.31
B14: 4.2 | D14: family | O14: =B4 -> P1.2 | P14: =B5 -> 1.2
B15: M4.2 | C15: Elizabeth CRIDLAND | D15: female | F15: Whelon | G15: 'b 1805 | L15: 'd 15 Feb 1878 | O15: =B6 -> M1.2 | P15: =B5 -> 1.2
B16: P5.2 | C16: John RYAN | D16: male | O16: =B7 -> P2.2 | P16: =B8 -> 2.2
B17: 5.2 | D17: family | O17: =B10 -> P3.2 | P17: =B11 -> 3.2
B18: M5.2 | C18: Anne RYAN | D18: female | O18: =B12 -> M3.2 | P18: =B11 -> 3.2
B19: P6.2 | C19: William COX | D19: male | E19: 8 | G19: 'b ~1791 | K19: Deceased | L19: 'd 10 Apr 1843 | O19: =B13 -> P4.2 | P19: =B14 -> 4.2
B20: 6.2 | D20: family | O20: =B15 -> M4.2 | P20: =B14 -> 4.2
B21: M6.2 | C21: Elizabeth COX | D21: female | E21: 8 | F21: Lynch | G21: 'b 11 Aug 1790 | K21: Deceased | L21: 'd 1850 | O21: =B16 -> P5.2 | P21: =B17 -> 5.2
B22: P7.2 | C22: William SKAINES | D22: male | G22: 'b 1796 | K22: Deceased | L22: 'd 25 Sept 1841 | O22: =B18 -> M5.2 | P22: =B17 -> 5.2
B23: 7.2 | D23: family | O23: =B17 -> 5.2 | P23: =B51 -> C5.31
B24: M7.2 | C24: Mary SKAINES | D24: female | F24: Obrien | K24: Deceased | O24: =B19 -> P6.2 | P24: =B20 -> 6.2
B25: P8.2 | C25: 11 | D25: male | G25: 'b 12 Aug 1810 | L25: 'd 24 Aug 1870 | O25: =B21 -> M6.2 | P25: =B20 -> 6.2
B26: 8.2 | D26: family | O26: =B22 -> P7.2 | P26: =B23 -> 7.2
B27: M8.2 | C27: Jane FERRET | D27: female | F27: Clift | G27: 'b 19 May 1808 | L27: 'd 16 Jul 1877 | O27: =B24 -> M7.2 | P27: =B23 -> 7.2
B28: P9.2 | C28: John TICKLE | D28: male | G28: 'b Jan 1802 | L28: 'd 12 Oct 1881 | O28: =B25 -> P8.2 | P28: =B26 -> 8.2
B29: 9.2 | D29: family | O29: =B27 -> M8.2 | P29: =B26 -> 8.2
B30: M9.2 | C30: Anne TICKLE | D30: female | F30: Cole | G30: 'b 1807 | L30: 'd 30 Dec 1883 | O30: =B28 -> P9.2 | P30: =B29 -> 9.2
B31: P10.2 | C31: Moses MASTERS | D31: male | G31: 'b 7 Apr 1810 | L31: 'd 20 Jun 1884 | O31: =B30 -> M9.2 | P31: =B29 -> 9.2
B32: 10.2 | D32: family | O32: =B31 -> P10.2 | P32: =B32 -> 10.2
B33: M10.2 | C33: Rebecca MASTERS | D33: female | F33: Brekkanbury | G33: 'b 6 Feb 1848 | L33: 'd 19 Feb 1848 | O33: =B33 -> M10.2 | P33: =B32 -> 10.2
B34: C1.31 | C34: William CUPITT | D34: male | E34: 6 | G34: b 12 Jun 1825 | H34: Sydney | I34: m 1858 | K34: Deceased | L34: -17 Apr 1886 | O34: =B5 -> 1.2 | P34: =B34 -> C1.31
B35: C1.32 | C35: Mary EMMETT | D35: female | E35: 9 | F35: Cupitt | G35: b 25 Jun 1857 | H35: Windsor | I35: m 6 Dec 1848 | J35: Sutton Forest | K35: Deceased | L35: -12 Feb 1871 | M35: Bd Bong Bong | O35: =B5 -> 1.2 | P35: =B35 -> C1.32
B36: C1.33 | C36: James CUPITT | D36: c | G36: b 4 Feb 1830 | H36: Windsor | K36: Child 4 years | L36: -23 Oct 1834 | M36: Mittagong | O36: =B5 -> 1.2 | P36: =B36 -> C1.33
B37: S1.34 | C37: John CUPITT | D37: female | O37: =B5 -> 1.2 | P37: =B37 -> S1.34
B38: C1.35 | C38: Maria WARD | D38: female | E38: 2 | F38: Cupitt | G38: =#REF! -> #REF! | H38: =#REF! -> #REF! | I38: m 16 Feb 1852 | K38: Deceased | L38: -17 May 1902 | O38: =B5 -> 1.2 | P38: =B38 -> C1.35
B39: C1.36 | C39: Matilda SAVILLE | D39: female | E39: 8 | F39: Cupitt | G39: =#REF! -> #REF! | H39: =#REF! -> #REF! | I39: m 12 Jan 1852 | J39: Sutton Forest | K39: Deceased | L39: -17 May 1920 | M39: Bd Bong Bong | O39: =B5 -> 1.2 | P39: =B39 -> C1.36
B40: C1.37 | C40: Joseph CUPITT | D40: male | E40: 9 | G40: b 23 Jun 1839 | H40: Sutton Forest | I40: M 25 Jun 1861 | J40: Berrima | K40: Deceased | L40: -23 Oct 1923 | O40: =B5 -> 1.2 | P40: =B40 -> C1.37
B41: C1.38 | C41: George CUPITT | D41: male | E41: 11 | G41: b 9 Mar 1843 | H41: Sutton Forest | I41: M 1863 | K41: Deceased | L41: - 3 May 1904 | M41: Robinson | O41: =B5 -> 1.2 | P41: =B41 -> C1.38
B42: C1.39 | C42: Thomas Edwin CUPITT | D42: male | E42: 12 | G42: b 20 Jul 1844 | H42: Sutton Forest | I42: m 13 Jun 1866 | J42: Wellington | K42: Deceased | L42: -17 Oct 1932 | M42: Flemington | O42: =B5 -> 1.2 | P42: =B42 -> C1.39
B43: C1.310 | C43: Emma Jane MAYER | D43: female | E43: 5 | F43: Cupitt | G43: b 22 Apr 1847 | H43: Bong Bong | I43: m 15 Feb 1865 | K43: Deceased | L43: -4 Apr 1905 | M43: Armidale | O43: =B5 -> 1.2 | P43: =B43 -> C1.310
B44: C2.31 | C44: William SAVILLE | D44: male | E44: 8 | G44: b 3 Dec 1809 | H44: Essex (UK) | I44: m 12 Jan 1852 | J44: Camden Parish | K44: Deceased | L44: -4 Oct 1869 | M44: Bong Bong | O44: =B8 -> 2.2 | P44: =B44 -> C2.31
B45: 2.31 | D45: family | O45: =B39 -> C1.36 | P45: =B45 -> 2.31
B46: C3.31 | C46: Thomas BELL | D46: male | G46: 'b 1822 | K46: Deceased | L46: 'd 7 Jan 1892 | O46: =B46 -> C3.31 | P46: =B47 -> 3.31
B47: 3.31 | D47: family | O47: 3.2 | P47: =B46 -> C3.31
B48: S3.31 | C48: Margaret BELL | D48: female | F48: Frazer | G48: 'b 12 Dec 1829 | K48: Deceased | L48: 'd 19 Aug 1916 | O48: =B48 -> S3.31 | P48: =B47 -> 3.31
B49: C4.31 | C49: Charles John Snr CRIDLAND | D49: male | G49: 'b 30 Jan 1826 | L49: 'd 23 Dec 1910 | O49: =B14 -> 4.2 | P49: =B49 -> C4.31
B50: 4.31 | D50: family | O50: =B49 -> C4.31 | P50: =B50 -> 4.31
B51: C5.31 | C51: Maryanne CRIDLAND | D51: female | F51: Ryan | G51: 'b 15 May 1832 | L51: 'd 17 Oct 1906 | O51: =B51 -> C5.31 | P51: =B50 -> 4.31
B52: C6.31 | C52: Maria REES | D52: female | F52: Cox | K52: Deceased | O52: =B20 -> 6.2 | P52: =B52 -> C6.31
B53: C7.31 | C53: Thomas SKAINES | D53: male | G53: 'b 1828 | K53: Deceased | L53: 'd 1913 | O53: =B23 -> 7.2 | P53: =B53 -> C7.31
B54: 7.31 | D54: family | O54: =B53 -> C7.31 | P54: =B54 -> 7.31
B55: C8.31 | C55: Elizabeth SKAINES | D55: female | F55: Ferrett | G55: 'b 1828 | L55: 'd 11 Aug 1894 | O55: =B26 -> 8.2 | P55: =B55 -> C8.31
B56: C9.31 | C56: Elizabeth MASTERS | D56: female | F56: Tickle | G56: Mar 1838 | L56: 'd 20 Nov1923 | O56: =B29 -> 9.2 | P56: =B56 -> C9.31
B57: C10.31 | C57: Aaron MASTERS | D57: male | G57: 'b 9 Dec 1835 | L57: 'd 10 Jul 1900 | O57: =B32 -> 10.2 | P57: =B57 -> C10.31
B58: 10.31 | D58: family | O58: =B57 -> C10.31 | P58: =B58 -> 10.31
B59: P11.31 | C59: Samuel RAYS | D59: male | G59: 'b 1828 | L59: 'd 23 Dec 1939 | O59: =B56 -> C9.31 | P59: =B58 -> 10.31
B60: 11.31 | D60: family | O60: =B59 -> P11.31 | P60: =B60 -> 11.31
B61: M11.31 | C61: Anne RAYS | D61: female | F61: 25.5 | G61: 'b 1826 | L61: 'd 22 Feb 1905 | O61: =B61 -> M11.31 | P61: =B60 -> 11.31
B62: P12.31 | C62: William REES | D62: male | G62: 'b 1819 | L62: 'd 17 Aug 1861 | O62: =B62 -> P12.31 | P62: =B63 -> 12.31
B63: 12.31 | D63: family | O63: =B52 -> C6.31 | P63: =B63 -> 12.31
B64: P24.31 | C64: Jeffrey WALKER | D64: male | G64: 'b 1833 | I64: 'm 26 Mar 1854 | L64: 'd 4 Jul 1915 | O64: =B64 -> P24.31 | P64: =B65 -> 24.31
B65: 24.31 | D65: family | O65: =B65 -> 24.31 | P65: =B126 -> C24.411
B66: M24.31 | C66: Elizabeth WALKER | D66: female | F66: Pease | G66: 'b 1821 | I66: 'm 26 Mar 1854 | O66: =B66 -> M24.31 | P66: =B65 -> 24.31
B67: P26.31 | C67: James JORDINSON | D67: male | G67: 'b 1813 | I67: 'm Apr 1843 | O67: =B67 -> P26.31 | P67: =B68 -> 26.31
B68: 26.31 | D68: family | O68: =B68 -> 26.31 | P68: =B128 -> S24.411
B69: M26.31 | C69: Sarah JORDINSON | D69: female | F69: Coates | G69: 'b1818 | I69: 'm Apr 1843 | L69: 'b 29 Apr 1889 | O69: =B69 -> M26.31 | P69: =B68 -> 26.31
B70: P27.31 | C70: Albert CRAIG | D70: male | G70: 'b1852 | I70: 'm 7 Jan 1872 | L70: 'd 1918 | O70: =B70 -> P27.31 | P70: =B71 -> 27.31
B71: 27.31 | D71: family | O71: =B71 -> 27.31 | P71: =B129 -> C27.411
B72: M27.31 | C72: Denise CRAIG | D72: female | F72: Shaxted | G72: 'b1850 | I72: 'm 7 Jan 1872 | L72: 'd 1878 | O72: =B72 -> M27.31 | P72: =B71 -> 27.31
B73: P28.31 | C73: Richard BEER | D73: male | G73: 'b Jan 1842 | I73: 'm 12 Jan 1865 | L73: 'm Mar 1819 | O73: =B73 -> P28.31 | P73: =B74 -> 28.31
B74: 28.31 | D74: family | O74: =B74 -> 28.31 | P74: =B131 -> S 27.411
B75: M28.31 | C75: Ann BEER | D75: female | F75: Drew | G75: 'b 6 Feb 1845 | I75: 'm 12 Jan 1865 | L75: 'd 1918 | O75: =B75 -> M28.31 | P75: =B74 -> 28.31
B76: P25.31 | C76: Archibald Hamilton JACOB | D76: male | G76: 'b 3 Jul 1829 | H76: Jessore India | I76: 'm 31 Mar 1853 | J76: Raymond Terrace | K76: Deceased | L76: 'd 28 May 1900 | M76: Ashfield | O76: =B76 -> P25.31 | P76: =B77 -> 25.31
A77: Archibald | B77: 25.31 | D77: family | O77: =B77 -> 25.31 | P77: =B132 -> C25.411
B78: M25.31 | C78: Mary JACOB | D78: female | F78: SNODGRASS | G78: 'b 7 Nov 1830 | H78: Sydney | I78: 'm 31 Mar 1853 | J78: Raymond Terrace | K78: Deceased | L78: 'd 30 Jun 1897 | M78: Sydney | O78: =B78 -> M25.31 | P78: =B77 -> 25.31
B79: P29.31 | C79: George TURNER | D79: male | G79: 'b 1843 | H79: Boston UK | I79: 'm 14 May 1864 | J79: Brisbane | K79: Deceased | L79: 'dJul 1892 | M79: Liverpool nsw | O79: =B79 -> P29.31 | P79: =B80 -> 29.31
A80: George | B80: 29.31 | D80: family | O80: =B80 -> 29.31 | P80: =B134 -> C29.411
B81: M29.31 | C81: Matilda TURNER | D81: female | F81: Laurence | G81: 'b 7 Apr 1842 | H81: New York usa | I81: 'm 14 May 1864 | J81: Brisbane | K81: Deceased | L81: 'd 11 Jun 1897 | M81: Sydney | O81: =B81 -> M29.31 | P81: =B80 -> 29.31
B82: P30.31 | C82: Mjr George Thomas DAWSON | D82: male | G82: 'b 27 Feb 1788 | H82: UK | I82: 'm 22 Jun 1829 | J82: Edinborough | K82: Deceased | L82: 'd 11 Oct 1861 | M82: Portobello Scotland | O82: =B82 -> P30.31 | P82: =B83 -> 30.31
A83: George | B83: 30.31 | D83: family | O83: =B83 -> 30.31 | P83: =B135 -> C30.411
B84: M30.31 | C84: Euphemia DAWSON | D84: female | F84: Erskine | G84: 'b 4 jun 1801 | H84: Saline Fife Scotland | I84: 'm 22 Jun 1829 | J84: Edinborough | K84: Deceased | L84: 'd 7 Jun 1852 | M84: Scotland | O84: =B84 -> M30.31 | P84: =B83 -> 30.31
B85: P31.31 | C85: Douglas Ryves Douglas Hamilton | D85: male | G85: 'b 5 Jan 1814 | H85: London | I85: 'm `14 Feb 1843 | J85: France | K85: Deceased | L85: 'd 3 Feb 1894 | M85: County Carlow IR | O85: =B85 -> P31.31 | P85: =B86 -> 31.31
A86: George | B86: 31.31 | D86: family | O86: =B86 -> 31.31 | P86: =B137 -> C31.411
B87: M31.31 | C87: Frances Ann Douglas Hamilton | D87: female | F87: Graves | G87: 'b1822 | H87: Dublin | I87: 'm `14 Feb 1843 | J87: France | K87: Deceased | L87: 'd 4 Sept 1897 | M87: Brisbane | O87: =B87 -> M31.31 | P87: =B86 -> 31.31
B88: C2.411 | C88: Mary Ann Louisa | D88: female | E88: 14 | F88: Savell | G88: b 19 Mar 1853 | H88: Berrima | I88: m 1877 | J88: Glenquarry | K88: Deceased | L88: -18 Jun 1945 | M88: Kangaloon | O88: =B45 -> 2.31 | P88: =B88 -> C2.411
A89: Mary Ann | B89: 2.411 | D89: family | O89: ='Full Tree'!B88 -> C2.411 | P89: =B89 -> 2.411
B90: S2.411 | C90: Joseph PEARSON | D90: male | E90: 14 | G90: b 2 Nov 1854 | H90: Avondale | K90: Deceased | L90: -28 Jul 1921 | M90: Meth Cem Kangaloon | O90: =B90 -> S2.411 | P90: =B89 -> 2.411
B91: C2.412 | C91: Emily Susan | D91: female | E91: 8 | F91: Savell | G91: b 23 Dec 1854 | I91: m 12 May 1875 | J91: Bowral | K91: Deceased | L91: -15 Nov 1930 | M91: Bangalow | O91: =B45 -> 2.31 | P91: =B91 -> C2.412
A92: Emile | B92: 2.412 | D92: family | O92: ='Full Tree'!B91 -> C2.412 | P92: =B92 -> 2.412
B93: S2.412 | C93: George Penfold COLES | D93: male | E93: 9 | G93: b 17 Jan 1851 | K93: Deceased | L93: -24 Oct 1916 | O93: =B93 -> S2.412 | P93: =B92 -> 2.412
B94: C2.413 | C94: Eliza jane | D94: c | F94: Savell | G94: b 7 Oct 1856 | H94: Mittagong | K94: Child 2 Years | L94: -1858 | M94: Mittagong | O94: =B45 -> 2.31 | P94: =B94 -> C2.413
B95: C2.414 | C95: Annie Elizabeth | D95: female | E95: 10 | F95: Savell | G95: b 17/08/1858 | H95: Mittagong | I95: m 1 Mar 1880 | J95: Bowral | K95: Deceased | L95: -11 Dec 1949 | M95: Bowral | O95: =B45 -> 2.31 | P95: =B95 -> C2.414
A96: Annie | B96: 2.414 | D96: family | O96: ='Full Tree'!B95 -> C2.414 | P96: =B96 -> 2.414
B97: S2.414 | C97: Wiiliam Star RAYS | D97: male | E97: 10 | G97: b 14 Aug 1858 | H97: Ryde | I97: m 1 Mar 1880 | J97: Bowral | K97: Deceased | L97: -10 Feb 1947 | M97: Bangalow | O97: =B97 -> S2.414 | P97: =B96 -> 2.414
B98: C2.415 | C98: William Augustus SAVELL | D98: male | E98: 11 | G98: b 12 Sept 1860 | H98: Mittagong | I98: m 20 sept 1882 | J98: Bowral | K98: CONVICT | L98: -23 Dec 1939 | M98: Lakembla | O98: =B45 -> 2.31 | P98: =B98 -> C2.415
B99: 2.415 | D99: family | O99: =B98 -> C2.415 | P99: =B99 -> 2.415
B100: C2.416 | C100: George Edwin SAVILLE | D100: male | E100: 7 | G100: B 22 Mar 1863 | H100: Mittagong | I100: m 3 Mar 1892 | J100: Bolong | K100: Deceased | L100: -12 May 1936 | M100: Bowral | O100: =B45 -> 2.31 | P100: =B100 -> C2.416
A101: George | B101: 2.416 | D101: family | O101: ='Full Tree'!B100 -> C2.416 | P101: =B101 -> 2.416
...
