Workbook

Sheet Short Tree
B2: ID | C2: Name | D2: type | E2: Children | F2: nee | G2: Born | H2: Where Born | I2: Married | J2: Where Married | K2: Status | L2: Died | M2: Where died
B3: P5.2 | C3: John RYAN | D3: male | O3: Source | P3: Target
B4: 5.2 | D4: family | O4: =B3 -> P5.2 | P4: =B4 -> 5.2
B5: M5.2 | C5: Anne RYAN | D5: female | O5: =B4 -> 5.2 | P5: =B11 -> C5.31
B6: P4.2 | C6: Charles CRIDLAND | D6: male | E6: 12 | G6: 'b 1803 | L6: 'd 27/09/1879 | O6: =B5 -> M5.2 | P6: =B4 -> 5.2
B7: 4.2 | D7: family | O7: =B6 -> P4.2 | P7: =B7 -> 4.2
B8: M4.2 | C8: Elizabeth CRIDLAND | D8: female | F8: Whelon | G8: 'b 1805 | L8: 'd 15 Feb 1878 | O8: =B7 -> 4.2 | P8: =B9 -> C4.31
B9: C4.31 | C9: Charles John Snr CRIDLAND | D9: male | G9: 'b 30 Jan 1826 | L9: 'd 23 Dec 1910 | O9: =B8 -> M4.2 | P9: =B7 -> 4.2
B10: 4.31 | D10: family | O10: =B9 -> C4.31 | P10: =B10 -> 4.31
B11: C5.31 | C11: Maryanne CRIDLAND | D11: female | F11: Ryan | G11: 'b 15 May 1832 | L11: 'd 17 Oct 1906 | O11: =B10 -> 4.31 | P11: =B12 -> C4.411
B12: C4.411 | C12: Marianne BELL(Mary Anne) | D12: female | E12: 4 | F12: Cridland | G12: 'b 27 Jan 1853 | L12: d’ Jul 1915 | O12: =B11 -> C5.31 | P12: =B10 -> 4.31

Sheet Full Tree
B1: Members | O1: Relationship
B3: ID | C3: Name | D3: type | E3: Children | F3: nee | G3: Born | H3: Where Born | I3: Married | J3: Where Married | K3: Status | L3: Died | M3: Where died
B4: P1.2 | C4: William Augustus CUPITT | D4: male | E4: 10 | G4: b 3 Oct 1797 | H4: Sydney Cove | I4: m 8 Mar 1853 | J4: Windsor | K4: Deceased | L4: -4 Oct 1869 | M4: Kangaloon | O4: Source | P4: Target
A5: William | B5: 1.2 | D5: family | J5: Bell | O5: =B188 -> C7.61136 | P5: =B193 -> 12.61142
B6: M1.2 | C6: Rebecca Gettis CUPITT | D6: female | E6: 10 | F6: Charlton | G6: ‘b 25 Dec1804 | H6: Norfolk Island | I6: m 17 Dec 1833 | J6: Windsor | K6: Deceased | L6: -15 May 1886 | M6: Mittagong | O6: =B138 -> C2.5151 | P6: =B174 -> 12.5114
B7: P2.2 | C7: William Edward SAVELL | D7: male | L7: 'd~1909 | O7: =B161 -> C3.5111 | P7: =B165 -> 7.5113
B8: 2.2 | D8: family | O8: =B111 -> C4.411 | P8: =B110 -> 3.411
B9: M2.2 | O9: =B9 -> M2.2 | P9: =B8 -> 2.2
B10: P3.2 | C10: Robin BELL | D10: male | E10: 9 | F10: 3 | G10: 'b 15 Mar 1785 | K10: Deceased | L10: ‘d 28 Oct 1861 | O10: =B55 -> C8.31 | P10: =B54 -> 7.31
B11: 3.2 | D11: family | E11: 10 | O11: =B115 -> C11.411 | P11: =B99 -> 2.415
B12: M3.2 | C12: Mercy BELL | D12: female | E12: 11 | G12: 'b 1784 | K12: Deceased | L12: 'd 20 Apr 1850 | O12: =B114 -> S3.411 | P12: =B113 -> 7.411
B13: P4.2 | C13: Charles CRIDLAND | D13: male | E13: 12 | G13: 'b 1803 | L13: 'd 27/09/1879 | O13: =B44 -> C2.31 | P13: =B45 -> 2.31
B14: 4.2 | D14: family | O14: =B4 -> P1.2 | P14: =B5 -> 1.2
B15: M4.2 | C15: Elizabeth CRIDLAND | D15: female | F15: Whelon | G15: 'b 1805 | L15: 'd 15 Feb 1878 | O15: =B6 -> M1.2 | P15: =B5 -> 1.2
B16: P5.2 | C16: John RYAN | D16: male | O16: =B7 -> P2.2 | P16: =B8 -> 2.2
B17: 5.2 | D17: family | O17: =B10 -> P3.2 | P17: =B11 -> 3.2
B18: M5.2 | C18: Anne RYAN | D18: female | O18: =B12 -> M3.2 | P18: =B11 -> 3.2
B19: P6.2 | C19: William COX | D19: male | E19: 8 | G19: 'b ~1791 | K19: Deceased | L19: 'd 10 Apr 1843 | O19: =B13 -> P4.2 | P19: =B14 -> 4.2
B20: 6.2 | D20: family | O20: =B15 -> M4.2 | P20: =B14 -> 4.2
B21: M6.2 | C21: Elizabeth COX | D21: female | E21: 8 | F21: Lynch | G21: 'b 11 Aug 1790 | K21: Deceased | L21: 'd 1850 | O21: =B16 -> P5.2 | P21: =B17 -> 5.2
B22: P7.2 | C22: William SKAINES | D22: male | G22: 'b 1796 | K22: Deceased | L22: 'd 25 Sept 1841 | O22: =B18 -> M5.2 | P22: =B17 -> 5.2
B23: 7.2 | D23: family | O23: =B17 -> 5.2 | P23: =B51 -> C5.31
B24: M7.2 | C24: Mary SKAINES | D24: female | F24: Obrien | K24: Deceased | O24: =B19 -> P6.2 | P24: =B20 -> 6.2
B25: P8.2 | C25: 11 | D25: male | G25: 'b 12 Aug 1810 | L25: 'd 24 Aug 1870 | O25: =B21 -> M6.2 | P25: =B20 -> 6.2
B26: 8.2 | D26: family | O26: =B22 -> P7.2 | P26: =B23 -> 7.2
B27: M8.2 | C27: Jane FERRET | D27: female | F27: Clift | G27: 'b 19 May 1808 | L27: 'd 16 Jul 1877 | O27: =B24 -> M7.2 | P27: =B23 -> 7.2
B28: P9.2 | C28: John TICKLE | D28: male | G28: 'b Jan 1802 | L28: 'd 12 Oct 1881 | O28: =B25 -> P8.2 | P28: =B26 -> 8.2
B29: 9.2 | D29: family | O29: =B27 -> M8.2 | P29: =B26 -> 8.2
B30: M9.2 | C30: Anne TICKLE | D30: female | F30: Cole | G30: 'b 1807 | L30: 'd 30 Dec 1883 | O30: =B28 -> P9.2 | P30: =B29 -> 9.2
B31: P10.2 | C31: Moses MASTERS | D31: male | G31: 'b 7 Apr 1810 | L31: 'd 20 Jun 1884 | O31: =B30 -> M9.2 | P31: =B29 -> 9.2
B32: 10.2 | D32: family | O32: =B31 -> P10.2 | P32: =B32 -> 10.2
B33: M10.2 | C33: Rebecca MASTERS | D33: female | F33: Brekkanbury | G33: 'b 6 Feb 1848 | L33: 'd 19 Feb 1848 | O33: =B33 -> M10.2 | P33: =B32 -> 10.2
B34: C1.31 | C34: William CUPITT | D34: male | E34: 6 | G34: b 12 Jun 1825 | H34: Sydney | I34: m 1858 | K34: Deceased | L34: -17 Apr 1886 | O34: =B5 -> 1.2 | P34: =B34 -> C1.31
B35: C1.32 | C35: Mary EMMETT | D35: female | E35: 9 | F35: Cupitt | G35: b 25 Jun 1857 | H35: Windsor | I35: m 6 Dec 1848 | J35: Sutton Forest | K35: Deceased | L35: -12 Feb 1871 | M35: Bd Bong Bong | O35: =B5 -> 1.2 | P35: =B35 -> C1.32
B36: C1.33 | C36: James CUPITT | D36: c | G36: b 4 Feb 1830 | H36: Windsor | K36: Child 4 years | L36: -23 Oct 1834 | M36: Mittagong | O36: =B5 -> 1.2 | P36: =B36 -> C1.33
B37: S1.34 | C37: John CUPITT | D37: female | O37: =B5 -> 1.2 | P37: =B37 -> S1.34
B38: C1.35 | C38: Maria WARD | D38: female | E38: 2 | F38: Cupitt | G38: =#REF! -> #REF! | H38: =#REF! -> #REF! | I38: m 16 Feb 1852 | K38: Deceased | L38: -17 May 1902 | O38: =B5 -> 1.2 | P38: =B38 -> C1.35
B39: C1.36 | C39: Matilda SAVILLE | D39: female | E39: 8 | F39: Cupitt | G39: =#REF! -> #REF! | H39: =#REF! -> #REF! | I39: m 12 Jan 1852 | J39: Sutton Forest | K39: Deceased | L39: -17 May 1920 | M39: Bd Bong Bong | O39: =B5 -> 1.2 | P39: =B39 -> C1.36
B40: C1.37 | C40: Joseph CUPITT | D40: male | E40: 9 | G40: b 23 Jun 1839 | H40: Sutton Forest | I40: M 25 Jun 1861 | J40: Berrima | K40: Deceased | L40: -23 Oct 1923 | O40: =B5 -> 1.2 | P40: =B40 -> C1.37
B41: C1.38 | C41: George CUPITT | D41: male | E41: 11 | G41: b 9 Mar 1843 | H41: Sutton Forest | I41: M 1863 | K41: Deceased | L41: - 3 May 1904 | M41: Robinson | O41: =B5 -> 1.2 | P41: =B41 -> C1.38
...
